BEGIN:VCALENDAR
VERSION:2.0
PRODID:icalendar-ruby
CALSCALE:GREGORIAN
BEGIN:VEVENT
DTSTAMP:20260423T134717Z
UID:a192065f-4571-46f9-a545-ad2f8341dac5
DTSTART;VALUE=DATE:20260514
DESCRIPTION:Property ID# 606883\, Locatoin: 471 Papanui Road\, Gold Auction
  Rooms (USP)\, Time: 10:00AM
SUMMARY:Auction for 12 Marble Wood Drive
END:VEVENT
END:VCALENDAR
