BEGIN:VCALENDAR
VERSION:2.0
PRODID:icalendar-ruby
CALSCALE:GREGORIAN
BEGIN:VEVENT
DTSTAMP:20260420T162906Z
UID:73b7a4c7-4a5e-4092-ab26-297cf4dcf507
DTSTART;VALUE=DATE:20260507
DESCRIPTION:Property ID# 606860\, Locatoin: Harcourts Grenadier\, 98 Moorho
 use Avenue (unless sold prior)\, Time: 11:00AM
SUMMARY:Auction for 124B Glandovey Road
END:VEVENT
END:VCALENDAR
