BEGIN:VCALENDAR
VERSION:2.0
PRODID:icalendar-ruby
CALSCALE:GREGORIAN
BEGIN:VEVENT
DTSTAMP:20260423T134940Z
UID:24c01c48-f6bc-4897-9599-52310b2e198d
DTSTART;VALUE=DATE:20260507
DESCRIPTION:Property ID# 606448\, Locatoin: Harcourts Grenadier 98 Moorhous
 e Avenue \, Time: 11:00AM
SUMMARY:Auction for 2/180 Lyttelton Street
END:VEVENT
END:VCALENDAR
