BEGIN:VCALENDAR
VERSION:2.0
PRODID:icalendar-ruby
CALSCALE:GREGORIAN
BEGIN:VEVENT
DTSTAMP:20260421T081401Z
UID:a2696ec6-675d-4b83-8506-912d5a11644f
DTSTART;VALUE=DATE:20260416
DESCRIPTION:Property ID# 606136\, Locatoin: Harcourts Grenadier 98 Moorhous
 e Avenue \, Time: 11:00AM
SUMMARY:Auction for 
END:VEVENT
END:VCALENDAR
