BEGIN:VCALENDAR
VERSION:2.0
PRODID:icalendar-ruby
CALSCALE:GREGORIAN
BEGIN:VEVENT
DTSTAMP:20260421T093301Z
UID:0f7a8427-e2bf-456a-9a2e-17b7827240fc
DTSTART;VALUE=DATE:20260416
DESCRIPTION:Property ID# 605795\, Locatoin: Harcourts Grenadier 98 Moorhous
 e Avenue\, Time: 11:00AM
SUMMARY:Auction for 5 Ashbrook Lane
END:VEVENT
END:VCALENDAR
