BEGIN:VCALENDAR
VERSION:2.0
PRODID:icalendar-ruby
CALSCALE:GREGORIAN
BEGIN:VEVENT
DTSTAMP:20260423T094623Z
UID:201fb0ba-f015-4e96-9a5b-9a8adfca1c8f
DTSTART;VALUE=DATE:20251001
DESCRIPTION:Property ID# 597211\, Time: 4:00PM
SUMMARY:Auction for 
END:VEVENT
END:VCALENDAR
