BEGIN:VCALENDAR
VERSION:2.0
PRODID:icalendar-ruby
CALSCALE:GREGORIAN
BEGIN:VEVENT
DTSTAMP:20260423T121420Z
UID:5b2c2c4f-578c-45f7-9538-bce55bedbb2a
DTSTART;VALUE=DATE:20250925
DESCRIPTION:Property ID# 596941\, Locatoin: Harcourts Grenadier 98 Moorhous
 e Avenue\, Time: 11:00AM
SUMMARY:Auction for 
END:VEVENT
END:VCALENDAR
