BEGIN:VCALENDAR
VERSION:2.0
PRODID:icalendar-ruby
CALSCALE:GREGORIAN
BEGIN:VEVENT
DTSTAMP:20260424T150202Z
UID:a60b1b3d-d441-45d1-b119-8ee716d0db93
DTSTART;VALUE=DATE:20250911
DESCRIPTION:Property ID# 595994\, Locatoin: Harcourts Grenadier 98 Moorhous
 e Avenue\, Time: 11:00AM
SUMMARY:Auction for 
END:VEVENT
END:VCALENDAR
