BEGIN:VCALENDAR
VERSION:2.0
PRODID:icalendar-ruby
CALSCALE:GREGORIAN
BEGIN:VEVENT
DTSTAMP:20260419T162237Z
UID:2b4768bd-0dee-494a-8a9c-6e30d8324f02
DTSTART;VALUE=DATE:20250828
DESCRIPTION:Property ID# 595670\, Locatoin: Harcourts Grenadier 98 Moorhous
 e Avenue\, Time: 11:00AM
SUMMARY:Auction for 
END:VEVENT
END:VCALENDAR
