BEGIN:VCALENDAR
VERSION:2.0
PRODID:icalendar-ruby
CALSCALE:GREGORIAN
BEGIN:VEVENT
DTSTAMP:20260421T093009Z
UID:5bff514c-57f4-46ea-8949-831160a92da9
DTSTART;VALUE=DATE:20250821
DESCRIPTION:Property ID# 595098\, Locatoin: Harcourts Grenadier 98 Moorhous
 e Avenue\, Time: 11:00AM
SUMMARY:Auction for 
END:VEVENT
END:VCALENDAR
