BEGIN:VCALENDAR
VERSION:2.0
PRODID:icalendar-ruby
CALSCALE:GREGORIAN
BEGIN:VEVENT
DTSTAMP:20260419T130806Z
UID:a7483e5f-2b1f-4ba3-b43a-5b0a2b2edbb6
DTSTART;VALUE=DATE:20250522
DESCRIPTION:Property ID# 592011\, Locatoin: Harcourts Grenadier 98 Moorhous
 e Avenue\, Time: 11:00AM
SUMMARY:Auction for 
END:VEVENT
END:VCALENDAR
