BEGIN:VCALENDAR
VERSION:2.0
PRODID:icalendar-ruby
CALSCALE:GREGORIAN
BEGIN:VEVENT
DTSTAMP:20260425T170119Z
UID:8d068ae6-fce6-45ba-9de3-64123fd49ba8
DTSTART;VALUE=DATE:20250410
DESCRIPTION:Property ID# 590372\, Locatoin: Harcourts Grenadier 98 Moorhous
 e Avenue\, Time: 11:00AM
SUMMARY:Auction for 
END:VEVENT
END:VCALENDAR
