BEGIN:VCALENDAR
VERSION:2.0
PRODID:icalendar-ruby
CALSCALE:GREGORIAN
BEGIN:VEVENT
DTSTAMP:20260419T181111Z
UID:8ce791a3-ad04-4cc9-953b-e7f18e9eba01
DTSTART;VALUE=DATE:20250211
DESCRIPTION:Property ID# 586769\, Locatoin: 55 Blighs Road\, Strowan (unles
 s sold prior)\, Time: 4:00PM
SUMMARY:Auction for 
END:VEVENT
END:VCALENDAR
