BEGIN:VCALENDAR
VERSION:2.0
PRODID:icalendar-ruby
CALSCALE:GREGORIAN
BEGIN:VEVENT
DTSTAMP:20260419T195027Z
UID:43859f20-7d5b-4768-9449-74d4c2dfb0c8
DTSTART;VALUE=DATE:20241107
DESCRIPTION:Property ID# 582311\, Locatoin: Harcourts Grenadier 98 Moorhous
 e Avenue\, Time: 11:00AM
SUMMARY:Auction for 
END:VEVENT
END:VCALENDAR
