BEGIN:VCALENDAR
VERSION:2.0
PRODID:icalendar-ruby
CALSCALE:GREGORIAN
BEGIN:VEVENT
DTSTAMP:20260425T165616Z
UID:0c31a9a2-6fda-4bea-97bf-e401d3200158
DTSTART;VALUE=DATE:20241001
DESCRIPTION:Property ID# 580997\, Time: 2:00PM
SUMMARY:Auction for 
END:VEVENT
END:VCALENDAR
