BEGIN:VCALENDAR
VERSION:2.0
PRODID:icalendar-ruby
CALSCALE:GREGORIAN
BEGIN:VEVENT
DTSTAMP:20260425T170308Z
UID:a77f1fc8-e672-4391-a143-a47ce5350b58
DTSTART;VALUE=DATE:20240919
DESCRIPTION:Property ID# 580316\, Locatoin: Harcourts Grenadier 98 Moorhous
 e Avenu\, Time: 11:00AM
SUMMARY:Auction for 
END:VEVENT
END:VCALENDAR
