BEGIN:VCALENDAR
VERSION:2.0
PRODID:icalendar-ruby
CALSCALE:GREGORIAN
BEGIN:VEVENT
DTSTAMP:20260420T232322Z
UID:263c21f7-f8d7-47e4-a47d-f2ad5f4ac54f
DTSTART;VALUE=DATE:20240801
DESCRIPTION:Property ID# 578226\, Locatoin: 98 Moorhouse Avenue (unless sol
 d prior)\, Time: 11:00AM
SUMMARY:Auction for 
END:VEVENT
END:VCALENDAR
