BEGIN:VCALENDAR
VERSION:2.0
PRODID:icalendar-ruby
CALSCALE:GREGORIAN
BEGIN:VEVENT
DTSTAMP:20260425T143413Z
UID:81d07be2-2229-4a36-9716-0fb0fc440591
DTSTART;VALUE=DATE:20240613
DESCRIPTION:Property ID# 576009\, Time: 11:00AM
SUMMARY:Auction for 
END:VEVENT
END:VCALENDAR
