BEGIN:VCALENDAR
VERSION:2.0
PRODID:icalendar-ruby
CALSCALE:GREGORIAN
BEGIN:VEVENT
DTSTAMP:20260425T170412Z
UID:cd2564d5-af63-4cf1-b51f-b65e44e49efd
DTSTART;VALUE=DATE:20240618
DESCRIPTION:Property ID# 575403\, Time: 12:00PM
SUMMARY:Auction for 
END:VEVENT
END:VCALENDAR
