BEGIN:VCALENDAR
VERSION:2.0
PRODID:icalendar-ruby
CALSCALE:GREGORIAN
BEGIN:VEVENT
DTSTAMP:20260425T165726Z
UID:1afb4124-40af-40e7-b1a0-63eba35ae8a5
DTSTART;VALUE=DATE:20240430
DESCRIPTION:Property ID# 574232\, Time: 12:00PM
SUMMARY:Auction for 
END:VEVENT
END:VCALENDAR
