BEGIN:VCALENDAR
VERSION:2.0
PRODID:icalendar-ruby
CALSCALE:GREGORIAN
BEGIN:VEVENT
DTSTAMP:20260425T134615Z
UID:cb93541b-0bb1-4dca-a10f-7fb3a5272894
DTSTART;VALUE=DATE:20240424
DESCRIPTION:Property ID# 573223\, Locatoin: 471 Papanui Road (Gold Auction 
 Rooms)\, Time: 4:00PM
SUMMARY:Auction for 
END:VEVENT
END:VCALENDAR
