BEGIN:VCALENDAR
VERSION:2.0
PRODID:icalendar-ruby
CALSCALE:GREGORIAN
BEGIN:VEVENT
DTSTAMP:20260419T195212Z
UID:2546e331-a0b0-4af6-b451-022eabd8ae0c
DTSTART;VALUE=DATE:20240328
DESCRIPTION:Property ID# 571760\, Time: 11:00AM
SUMMARY:Auction for 
END:VEVENT
END:VCALENDAR
