BEGIN:VCALENDAR
VERSION:2.0
PRODID:icalendar-ruby
CALSCALE:GREGORIAN
BEGIN:VEVENT
DTSTAMP:20260419T180942Z
UID:ced2673d-c032-4187-a422-c461d7b63879
DTSTART;VALUE=DATE:20240125
DESCRIPTION:Property ID# 567718\, Locatoin: 471 Papanui Road\, Papanui \, T
 ime: 10:00AM
SUMMARY:Auction for 
END:VEVENT
END:VCALENDAR
