BEGIN:VCALENDAR
VERSION:2.0
PRODID:icalendar-ruby
CALSCALE:GREGORIAN
BEGIN:VEVENT
DTSTAMP:20260419T194611Z
UID:b37a0e9f-d2ff-491c-b69f-8a49fdcdb2a8
DTSTART;VALUE=DATE:20231012
DESCRIPTION:Property ID# 563033\, Locatoin: Harcourts Grenadier 98 Moorhous
 e Avenue \, Time: 11:00AM
SUMMARY:Auction for 
END:VEVENT
END:VCALENDAR
