BEGIN:VCALENDAR
VERSION:2.0
PRODID:icalendar-ruby
CALSCALE:GREGORIAN
BEGIN:VEVENT
DTSTAMP:20260419T180813Z
UID:90ceb06a-ab1b-4a79-8e0e-8b8ed8d9ba15
DTSTART;VALUE=DATE:20231005
DESCRIPTION:Property ID# 561064\, Locatoin: Harcourts Gold Papanui\, 471 Pa
 panui Road\, Christchurch. (unless sold prior)\, Time: 10:00AM
SUMMARY:Auction for 
END:VEVENT
END:VCALENDAR
