BEGIN:VCALENDAR
VERSION:2.0
PRODID:icalendar-ruby
CALSCALE:GREGORIAN
BEGIN:VEVENT
DTSTAMP:20260419T180911Z
UID:c671bb16-012a-4645-8489-48638304713a
DTSTART;VALUE=DATE:20230809
DESCRIPTION:Property ID# 559859\, Locatoin: 471 Papanui Road (Gold Auction 
 Rooms)\, Time: 12:00PM
SUMMARY:Auction for 
END:VEVENT
END:VCALENDAR
