BEGIN:VCALENDAR
VERSION:2.0
PRODID:icalendar-ruby
CALSCALE:GREGORIAN
BEGIN:VEVENT
DTSTAMP:20260421T221742Z
UID:f77937ed-74f8-4486-ac51-c1c8f6a0aeb4
DTSTART;VALUE=DATE:20220317
DESCRIPTION:Property ID# 530377\, Locatoin: 98 Moorhouse Avenue\, Time: 11:
 00AM
SUMMARY:Auction for 
END:VEVENT
END:VCALENDAR
