BEGIN:VCALENDAR
VERSION:2.0
PRODID:icalendar-ruby
CALSCALE:GREGORIAN
BEGIN:VEVENT
DTSTAMP:20260421T221543Z
UID:ed016e6f-cd00-4600-ada2-aea05ea7a6ea
DTSTART;VALUE=DATE:20220303
DESCRIPTION:Property ID# 528891\, Locatoin: 98 Moorhouse Avenue\, Time: 11:
 00AM
SUMMARY:Auction for 
END:VEVENT
END:VCALENDAR
