BEGIN:VCALENDAR
VERSION:2.0
PRODID:icalendar-ruby
CALSCALE:GREGORIAN
BEGIN:VEVENT
DTSTAMP:20260419T194700Z
UID:07366137-6c0f-427b-9c75-8c28dd1d6b8d
DTSTART;VALUE=DATE:20220210
DESCRIPTION:Property ID# 526540\, Locatoin: Harcourts Grenadier 98 Moorhous
 e Avenue \, Time: 11:00AM
SUMMARY:Auction for 
END:VEVENT
END:VCALENDAR
