BEGIN:VCALENDAR
VERSION:2.0
PRODID:icalendar-ruby
CALSCALE:GREGORIAN
BEGIN:VEVENT
DTSTAMP:20260421T221038Z
UID:e259aa9b-7ecd-41f0-b80b-88c089491b55
DTSTART;VALUE=DATE:20211020
DESCRIPTION:Property ID# 518445\, Time: 4:00PM
SUMMARY:Auction for 
END:VEVENT
END:VCALENDAR
