BEGIN:VCALENDAR
VERSION:2.0
PRODID:icalendar-ruby
CALSCALE:GREGORIAN
BEGIN:VEVENT
DTSTAMP:20260419T195335Z
UID:7d3f5506-14ce-4371-830c-fc811fd24e29
DTSTART;VALUE=DATE:20210902
DESCRIPTION:Property ID# 515898\, Time: 12:00PM
SUMMARY:Auction for 
END:VEVENT
END:VCALENDAR
