BEGIN:VCALENDAR
VERSION:2.0
PRODID:icalendar-ruby
CALSCALE:GREGORIAN
BEGIN:VEVENT
DTSTAMP:20260421T221150Z
UID:b183728b-c82d-4303-a280-745b72b565f0
DTSTART;VALUE=DATE:20210826
DESCRIPTION:Property ID# 515643\, Locatoin: 98 Moorhouse Avenue\, Christchu
 rch\, Time: 12:00PM
SUMMARY:Auction for 
END:VEVENT
END:VCALENDAR
