BEGIN:VCALENDAR
VERSION:2.0
PRODID:icalendar-ruby
CALSCALE:GREGORIAN
BEGIN:VEVENT
DTSTAMP:20260421T191516Z
UID:e5a21700-7d37-4a0f-bba3-a2d82181d1c0
DTSTART;VALUE=DATE:20210624
DESCRIPTION:Property ID# 511523\, Locatoin: 98 Moorhouse Avenue\, Christchu
 rch\, Time: 12:00PM
SUMMARY:Auction for 
END:VEVENT
END:VCALENDAR
