BEGIN:VCALENDAR
VERSION:2.0
PRODID:icalendar-ruby
CALSCALE:GREGORIAN
BEGIN:VEVENT
DTSTAMP:20260421T221848Z
UID:4ed48042-56e6-454f-9eea-5126bf3f8718
DTSTART;VALUE=DATE:20210520
DESCRIPTION:Property ID# 508487\, Locatoin: 98 Moorhouse Avenue\, Christchu
 rch\, Time: 12:00PM
SUMMARY:Auction for 
END:VEVENT
END:VCALENDAR
